Workbook
Name Chronic: #REF!
Name CompCare: #REF!
Name Disease: #REF!
Name Early: #REF!
Name Education: #REF!
Name FTE: #REF!
Name HPDP: #REF!
Name Month: #REF!
Name Months: #REF!
Name Other: #REF!
Name Other1: #REF!
Name Quarters: #REF!
Name SN: #REF!
Name Year: #REF!

Sheet Lisez-MOI
B2: Instructions

Sheet Budg de l'organisme responsable
B1: Modèle de budget de l'appel de propositions 2027-2028 pour l'expansion des EISP
B4: Nom de l'organisme responsable : | D4: Entente privilégiée pour l'entente de financement :
B5: Type d'organisme responsable :
B6: Identifiant de la proposition :
B9: RESSOURCES HUMAINES (Veuillez sélectionner le titre du poste dans la liste déroulante ci-dessous) | C9: TYPE | D9: Lieu de prestation des services (où l'ETP est affecté) (Veuillez consulter les commentaires pour obtenir de plus amples renseignements) | E9: SALAIRE | F9: ETP (Saisissez le nombre) | G9: FINANCEMENT DE BASE
C10: =IFERROR(VLOOKUP($B10,Roles!$A$2:$C$54,2,FALSE),"") | E10: =IFERROR(VLOOKUP($B10,Roles!$A$2:$C$54,3,FALSE),"") | G10: =IFERROR(F10*E10,"")
C11: =IFERROR(VLOOKUP($B11,Roles!$A$2:$C$54,2,FALSE),"") | E11: =IFERROR(VLOOKUP($B11,Roles!$A$2:$C$54,3,FALSE),"") | G11: =IFERROR(F11*E11,"")
C12: =IFERROR(VLOOKUP($B12,Roles!$A$2:$C$54,2,FALSE),"") | E12: =IFERROR(VLOOKUP($B12,Roles!$A$2:$C$54,3,FALSE),"") | G12: =IFERROR(F12*E12,"")
C13: =IFERROR(VLOOKUP($B13,Roles!$A$2:$C$54,2,FALSE),"") | E13: =IFERROR(VLOOKUP($B13,Roles!$A$2:$C$54,3,FALSE),"") | G13: =IFERROR(F13*E13,"")
C14: =IFERROR(VLOOKUP($B14,Roles!$A$2:$C$54,2,FALSE),"") | E14: =IFERROR(VLOOKUP($B14,Roles!$A$2:$C$54,3,FALSE),"") | G14: =IFERROR(F14*E14,"")
C15: =IFERROR(VLOOKUP($B15,Roles!$A$2:$C$54,2,FALSE),"") | E15: =IFERROR(VLOOKUP($B15,Roles!$A$2:$C$54,3,FALSE),"") | G15: =IFERROR(F15*E15,"")
C16: =IFERROR(VLOOKUP($B16,Roles!$A$2:$C$54,2,FALSE),"") | E16: =IFERROR(VLOOKUP($B16,Roles!$A$2:$C$54,3,FALSE),"") | G16: =IFERROR(F16*E16,"")
C17: =IFERROR(VLOOKUP($B17,Roles!$A$2:$C$54,2,FALSE),"") | E17: =IFERROR(VLOOKUP($B17,Roles!$A$2:$C$54,3,FALSE),"") | G17: =IFERROR(F17*E17,"")
C18: =IFERROR(VLOOKUP($B18,Roles!$A$2:$C$54,2,FALSE),"") | E18: =IFERROR(VLOOKUP($B18,Roles!$A$2:$C$54,3,FALSE),"") | G18: =IFERROR(F18*E18,"")
C19: =IFERROR(VLOOKUP($B19,Roles!$A$2:$C$54,2,FALSE),"") | E19: =IFERROR(VLOOKUP($B19,Roles!$A$2:$C$54,3,FALSE),"") | G19: =IFERROR(F19*E19,"")
C20: =IFERROR(VLOOKUP($B20,Roles!$A$2:$C$54,2,FALSE),"") | E20: =IFERROR(VLOOKUP($B20,Roles!$A$2:$C$54,3,FALSE),"") | G20: =IFERROR(F20*E20,"")
C21: =IFERROR(VLOOKUP($B21,Roles!$A$2:$C$54,2,FALSE),"") | E21: =IFERROR(VLOOKUP($B21,Roles!$A$2:$C$54,3,FALSE),"") | G21: =IFERROR(F21*E21,"")
... C32: =IFERROR(VLOOKUP($B32,Roles!$A$2:$C$54,2,FALSE),"") | E32: =IFERROR(VLOOKUP($B32,Roles!$A$2:$C$54,3,FALSE),"") | G32: =IFERROR(F32*E32,"")
B33: TOTAL DES SALAIRES | G33: =SUM(G10:G32) -> 0
B34: TOTAL DES AVANTAGES SOCIAUX (22,5 % du montant total des salaires) | G34: =G33*0.225 -> 0
B35: TOTAL DES RESSOURCES HUMAINES | E35: ETP: | F35: =SUM(F10:F32) -> 0 | G35: =SUM(G33,G34) -> 0
B37: VACATIONS DE SPÉCIALISTES / MÉDECIN(S) COLLABORATEUR(S) | C37: NOMBRE DE VACATIONS ou ETP | D37: Lieu de prestation des services (où l'ETP est affecté) (Veuillez consulter les commentaires pour obtenir de plus amples renseignements) | E37: TAUX | G37: FINANCEMENT DE BASE
B38: Vacations de spécialistes (ESF seulement) Veuillez saisir le nombre de vacations --> | E38: 760 | G38: =IFERROR(C38*E38,"") -> 0
B39: Médecins collaborateurs (CPIP seulement) Veuillez saisir le nombre d'ETP d'IP --> | E39: 12309.69 | G39: =IFERROR(C39*E39,"") -> 0
B41: SALAIRES DES MÉDECINS EN ETP (CSC, MSM, OASSP) | C41: ETP | D41: Lieu de prestation des services (où l'ETP est affecté) (Veuillez consulter les commentaires pour obtenir de plus amples renseignements) | E41: TAUX | G41: FINANCEMENT DE BASE
B42: Médecin - CSC Veuillez saisir le nombre d'ETP --> | E42: 414968.06 | G42: =E42*C42 -> 0
B43: Médecin - MSM (niveau 2) Veuillez saisir le nombre d'ETP --> | E43: 259672 | G43: =E43*C43 -> 0
B44: Médecin - OASSP Veuillez saisir le nombre d'ETP --> | E44: 414968.06 | G44: =E44*C44 -> 0 | H44: =SUM(E42:E44) -> 1089608.1 | I44: =SUM(F42:F44) -> 0
B45: RÉMUNÉRATION TOTALE DES MÉDECINS | G45: =SUM(G38:G39)+SUM(G42:G44) -> 0 | H45: =SUM(B42:B44) -> 0 | I45: =SUM(C42:C44) -> 0
B47: FRAIS GÉNÉRAUX D'EXPLOITATION | C47: TAUX | G47: FINANCEMENT DE BASE
B48: Frais généraux (selon le tableau des ressources humaines ci-dessus) | C48: ="25% sur "&F35&" ETP" -> 25% sur 0 ETP | G48: =SUM(G35*0.25) -> 0
B49: Frais généraux (selon le tableau des salaires des médecins en ETP ci-dessus) | C49: ="25% sur "&I45&" ETP" -> 25% sur 0 ETP | G49: =SUM(G42:G44)*0.25 -> 0
B50: TOTAL DES FRAIS GÉNÉRAUX D'EXPLOITATION | G50: =SUM(G48:G49) -> 0
B52: TOTAL | G52: =SUM(G35,G45,G50) -> 0
B54: COMMENTAIRES

Sheet Budget de l'EISP partenaire 1
B1: Modèle de budget de l'appel de propositions 2027-2028 pour l'expansion des EISP
B4: Nom de l'organisme partenaire : | D4: Entente privilégiée pour l'entente de financement :
B5: Type d'organisme partenaire :
B6: Identifiant de la proposition : | C6: =IF('Budg de l''organisme responsable'!C6="","",'Budg de l''organisme responsable'!C6)
B9: RESSOURCES HUMAINES (Veuillez sélectionner le titre du poste dans la liste déroulante ci-dessous) | C9: TYPE | D9: Lieu de prestation des services (où l'ETP est affecté) (Veuillez consulter les commentaires pour obtenir de plus amples renseignements) | E9: SALAIRE | F9: ETP (Saisissez le nombre) | G9: FINANCEMENT DE BASE | K9: Instructions : ÉTAPE 1 : Saisissez les renseignements sur les RESSOURCES HUMAINES en sélectionnant les titres de poste des ressources (disponibles dans la liste déroulante de la colonne B - le salaire s'affichera automatiquement) Indiquez le nombre annuel d'équivalents temps plein (ETP) pour chaque ressource dans la colonne F Le financement de base total sera calculé automatiquement. Veuillez indiquer, dans la colonne D de ce tableau budgétaire, le principal lieu d'affectation où l'ETP fournira des services. ÉTAPE 2 : Saisissez le nombre de vacations de spécialistes dans la colonne C (le financement sera calculé automatiquement selon le taux indiqué - 760 $ par période de trois heures) Saisissez le nombre annuel d'ETP d'IP pour les médecins collaborateurs dans la colonne C (le financement sera calculé automatiquement selon le taux indiqué - 12 309,69 $ par année, par ETP d'IP) Veuillez indiquer, dans la colonne D de ce tableau budgétaire, le principal lieu d'affectation où l'ETP fournira des services. ÉTAPE 3 : Saisissez les ETP DE MÉDECINS en indiquant le nombre annuel d'ETP pour chaque type de médecin (CSC, MSM, OASSP) dans la colonne C Veuillez indiquer, dans la colonne D de ce tableau budgétaire, le principal lieu d'affectation où l'ETP fournira des services. ÉTAPE 4 : Passez en revue les renseignements sur les FRAIS GÉNÉRAUX D'EXPLOITATION dans les cellules prévues à cet effet (ils correspondent à des frais généraux de 25 % par ETP pour le nombre total d'ETP figurant dans le tableau des ressources humaines ci-dessus) ÉTAPE 5 : Remplissez un onglet Budget des EISP partenaires distinct pour chaque EISP participante et sélectionnez l'entente de financement applicable dans la liste déroulante. Saisissez les renseignements sur le financement et les ETP uniquement pour les EISP pour lesquelles un financement est demandé. Remarques : - Veuillez sélectionner le titre de poste qui correspond le mieux au rôle des ETP demandés - Les taux salariaux sont fournis aux fins de l'établissement du budget et ne tiennent pas compte des augmentations futures. - Ce tableau budgétaire s'applique uniquement aux fins de ce financement particulier Important : ne modifiez pas la structure, les formules, la mise en forme ni les listes déroulantes de ce modèle. Si vous avez besoin de lignes supplémentaires ou d'onglets Budget des EISP partenaires supplémentaires, veuillez communiquer avec primarycareexpansion@ontariohealth.ca
C10: =IFERROR(VLOOKUP($B10,Roles!$A$2:$C$54,2,FALSE),"") | E10: =IFERROR(VLOOKUP($B10,Roles!$A$2:$C$54,3,FALSE),"") | G10: =IFERROR(F10*E10,"")
C11: =IFERROR(VLOOKUP($B11,Roles!$A$2:$C$54,2,FALSE),"") | E11: =IFERROR(VLOOKUP($B11,Roles!$A$2:$C$54,3,FALSE),"") | G11: =IFERROR(F11*E11,"")
C12: =IFERROR(VLOOKUP($B12,Roles!$A$2:$C$54,2,FALSE),"") | E12: =IFERROR(VLOOKUP($B12,Roles!$A$2:$C$54,3,FALSE),"") | G12: =IFERROR(F12*E12,"")
C13: =IFERROR(VLOOKUP($B13,Roles!$A$2:$C$54,2,FALSE),"") | E13: =IFERROR(VLOOKUP($B13,Roles!$A$2:$C$54,3,FALSE),"") | G13: =IFERROR(F13*E13,"")
C14: =IFERROR(VLOOKUP($B14,Roles!$A$2:$C$54,2,FALSE),"") | E14: =IFERROR(VLOOKUP($B14,Roles!$A$2:$C$54,3,FALSE),"") | G14: =IFERROR(F14*E14,"")
C15: =IFERROR(VLOOKUP($B15,Roles!$A$2:$C$54,2,FALSE),"") | E15: =IFERROR(VLOOKUP($B15,Roles!$A$2:$C$54,3,FALSE),"") | G15: =IFERROR(F15*E15,"")
C16: =IFERROR(VLOOKUP($B16,Roles!$A$2:$C$54,2,FALSE),"") | E16: =IFERROR(VLOOKUP($B16,Roles!$A$2:$C$54,3,FALSE),"") | G16: =IFERROR(F16*E16,"")
C17: =IFERROR(VLOOKUP($B17,Roles!$A$2:$C$54,2,FALSE),"") | E17: =IFERROR(VLOOKUP($B17,Roles!$A$2:$C$54,3,FALSE),"") | G17: =IFERROR(F17*E17,"")
C18: =IFERROR(VLOOKUP($B18,Roles!$A$2:$C$54,2,FALSE),"") | E18: =IFERROR(VLOOKUP($B18,Roles!$A$2:$C$54,3,FALSE),"") | G18: =IFERROR(F18*E18,"")
C19: =IFERROR(VLOOKUP($B19,Roles!$A$2:$C$54,2,FALSE),"") | E19: =IFERROR(VLOOKUP($B19,Roles!$A$2:$C$54,3,FALSE),"") | G19: =IFERROR(F19*E19,"")
C20: =IFERROR(VLOOKUP($B20,Roles!$A$2:$C$54,2,FALSE),"") | E20: =IFERROR(VLOOKUP($B20,Roles!$A$2:$C$54,3,FALSE),"") | G20: =IFERROR(F20*E20,"")
C21: =IFERROR(VLOOKUP($B21,Roles!$A$2:$C$54,2,FALSE),"") | E21: =IFERROR(VLOOKUP($B21,Roles!$A$2:$C$54,3,FALSE),"") | G21: =IFERROR(F21*E21,"")
... C32: =IFERROR(VLOOKUP($B32,Roles!$A$2:$C$54,2,FALSE),"") | E32: =IFERROR(VLOOKUP($B32,Roles!$A$2:$C$54,3,FALSE),"") | G32: =IFERROR(F32*E32,"")
B33: TOTAL DES SALAIRES | G33: =SUM(G10:G32) -> 0
B34: TOTAL DES AVANTAGES SOCIAUX (22,5 % du montant total des salaires) | G34: =G33*0.225 -> 0
B35: TOTAL DES RESSOURCES HUMAINES | E35: ETP: | F35: =SUM(F10:F32) -> 0 | G35: =SUM(G33,G34) -> 0
B37: VACATIONS DE SPÉCIALISTES / MÉDECIN(S) COLLABORATEUR(S) | C37: NOMBRE DE VACATIONS ou ETP (AJUSTÉ) | D37: Lieu de prestation des services (où l'ETP est affecté) (Veuillez consulter les commentaires pour obtenir de plus amples renseignements) | E37: TAUX | G37: FINANCEMENT DE BASE
B38: Vacations de spécialistes (ESF seulement) Veuillez saisir le nombre de vacations --> | E38: 760 | G38: =IFERROR(C38*E38,"") -> 0
B39: Médecins collaborateurs (CPIP seulement) Veuillez saisir le nombre d'ETP d'IP --> | E39: 12309.69 | G39: =IFERROR(C39*E39,"") -> 0
B41: SALAIRES DES MÉDECINS EN ETP (CSC, MSM, OASSP) | C41: ETP (AJUSTÉ) | D41: Lieu de prestation des services (où l'ETP est affecté) (Veuillez consulter les commentaires pour obtenir de plus amples renseignements) | E41: TAUX | G41: FINANCEMENT DE BASE
B42: Médecin - CSC Veuillez saisir le nombre d'ETP --> | E42: 414968.06 | G42: =E42*C42 -> 0
A43: FTE | B43: Médecin - MSM (niveau 2) Veuillez saisir le nombre d'ETP --> | E43: 259672 | G43: =E43*C43 -> 0
B44: Médecin - OASSP Veuillez saisir le nombre d'ETP --> | E44: 414968.06 | G44: =E44*C44 -> 0 | H44: =SUM(E42:E44) -> 1089608.1 | I44: =SUM(F42:F44) -> 0
B45: RÉMUNÉRATION TOTALE DES MÉDECINS | G45: =SUM(G38:G39)+SUM(G42:G44) -> 0 | H45: =SUM(B42:B44) -> 0 | I45: =SUM(C42:C44) -> 0
B47: FRAIS GÉNÉRAUX D'EXPLOITATION | C47: TAUX | G47: FINANCEMENT DE BASE
B48: Frais généraux (selon le tableau des ressources humaines ci-dessus) | C48: ="25% sur "&F35&" ETP" -> 25% sur 0 ETP | G48: =SUM(G35*0.25) -> 0
B49: Frais généraux (selon le tableau des salaires des médecins en ETP ci-dessus) | C49: ="25% sur "&I45&" ETP" -> 25% sur 0 ETP | G49: =SUM(G42:G44)*0.25 -> 0
B50: TOTAL DES FRAIS GÉNÉRAUX D'EXPLOITATION | G50: =SUM(G48:G49) -> 0
B52: TOTAL | G52: =SUM(G35,G45,G50) -> 0
B53: COMMENTAIRES

Sheet Budget de l'EISP partenaire 2
B1: Modèle de budget de l'appel de propositions 2027-2028 pour l'expansion des EISP
B4: Nom de l'organisme partenaire : | D4: Entente privilégiée pour l'entente de financement :
B5: Type d'organisme partenaire :
B6: Identifiant de la proposition : | C6: =IF('Budg de l''organisme responsable'!C6="","",'Budg de l''organisme responsable'!C6)
B9: RESSOURCES HUMAINES (Veuillez sélectionner le titre du poste dans la liste déroulante ci-dessous) | C9: TYPE | D9: Lieu de prestation des services (où l'ETP est affecté) (Veuillez consulter les commentaires pour obtenir de plus amples renseignements) | E9: SALAIRE | F9: ETP (Saisissez le nombre) | G9: FINANCEMENT DE BASE | K9: Instructions : ÉTAPE 1 : Saisissez les renseignements sur les RESSOURCES HUMAINES en sélectionnant les titres de poste des ressources (disponibles dans la liste déroulante de la colonne B - le salaire s'affichera automatiquement) Indiquez le nombre annuel d'équivalents temps plein (ETP) pour chaque ressource dans la colonne F Le financement de base total sera calculé automatiquement. Veuillez indiquer, dans la colonne D de ce tableau budgétaire, le principal lieu d'affectation où l'ETP fournira des services. ÉTAPE 2 : Saisissez le nombre de vacations de spécialistes dans la colonne C (le financement sera calculé automatiquement selon le taux indiqué - 760 $ par période de trois heures) Saisissez le nombre annuel d'ETP d'IP pour les médecins collaborateurs dans la colonne C (le financement sera calculé automatiquement selon le taux indiqué - 12 309,69 $ par année, par ETP d'IP) Veuillez indiquer, dans la colonne D de ce tableau budgétaire, le principal lieu d'affectation où l'ETP fournira des services. ÉTAPE 3 : Saisissez les ETP DE MÉDECINS en indiquant le nombre annuel d'ETP pour chaque type de médecin (CSC, MSM, OASSP) dans la colonne C Veuillez indiquer, dans la colonne D de ce tableau budgétaire, le principal lieu d'affectation où l'ETP fournira des services. ÉTAPE 4 : Passez en revue les renseignements sur les FRAIS GÉNÉRAUX D'EXPLOITATION dans les cellules prévues à cet effet (ils correspondent à des frais généraux de 25 % par ETP pour le nombre total d'ETP figurant dans le tableau des ressources humaines ci-dessus) ÉTAPE 5 : Remplissez un onglet Budget des EISP partenaires distinct pour chaque EISP participante et sélectionnez l'entente de financement applicable dans la liste déroulante. Saisissez les renseignements sur le financement et les ETP uniquement pour les EISP pour lesquelles un financement est demandé. Remarques : - Veuillez sélectionner le titre de poste qui correspond le mieux au rôle des ETP demandés - Les taux salariaux sont fournis aux fins de l'établissement du budget et ne tiennent pas compte des augmentations futures. - Ce tableau budgétaire s'applique uniquement aux fins de ce financement particulier Important : ne modifiez pas la structure, les formules, la mise en forme ni les listes déroulantes de ce modèle. Si vous avez besoin de lignes supplémentaires ou d'onglets Budget des EISP partenaires supplémentaires, veuillez communiquer avec primarycareexpansion@ontariohealth.ca
C10: =IFERROR(VLOOKUP($B10,Roles!$A$2:$C$54,2,FALSE),"") | E10: =IFERROR(VLOOKUP($B10,Roles!$A$2:$C$54,3,FALSE),"") | G10: =IFERROR(F10*E10,"")
C11: =IFERROR(VLOOKUP($B11,Roles!$A$2:$C$54,2,FALSE),"") | E11: =IFERROR(VLOOKUP($B11,Roles!$A$2:$C$54,3,FALSE),"") | G11: =IFERROR(F11*E11,"")
C12: =IFERROR(VLOOKUP($B12,Roles!$A$2:$C$54,2,FALSE),"") | E12: =IFERROR(VLOOKUP($B12,Roles!$A$2:$C$54,3,FALSE),"") | G12: =IFERROR(F12*E12,"")
C13: =IFERROR(VLOOKUP($B13,Roles!$A$2:$C$54,2,FALSE),"") | E13: =IFERROR(VLOOKUP($B13,Roles!$A$2:$C$54,3,FALSE),"") | G13: =IFERROR(F13*E13,"")
C14: =IFERROR(VLOOKUP($B14,Roles!$A$2:$C$54,2,FALSE),"") | E14: =IFERROR(VLOOKUP($B14,Roles!$A$2:$C$54,3,FALSE),"") | G14: =IFERROR(F14*E14,"")
C15: =IFERROR(VLOOKUP($B15,Roles!$A$2:$C$54,2,FALSE),"") | E15: =IFERROR(VLOOKUP($B15,Roles!$A$2:$C$54,3,FALSE),"") | G15: =IFERROR(F15*E15,"")
C16: =IFERROR(VLOOKUP($B16,Roles!$A$2:$C$54,2,FALSE),"") | E16: =IFERROR(VLOOKUP($B16,Roles!$A$2:$C$54,3,FALSE),"") | G16: =IFERROR(F16*E16,"")
C17: =IFERROR(VLOOKUP($B17,Roles!$A$2:$C$54,2,FALSE),"") | E17: =IFERROR(VLOOKUP($B17,Roles!$A$2:$C$54,3,FALSE),"") | G17: =IFERROR(F17*E17,"")
C18: =IFERROR(VLOOKUP($B18,Roles!$A$2:$C$54,2,FALSE),"") | E18: =IFERROR(VLOOKUP($B18,Roles!$A$2:$C$54,3,FALSE),"") | G18: =IFERROR(F18*E18,"")
C19: =IFERROR(VLOOKUP($B19,Roles!$A$2:$C$54,2,FALSE),"") | E19: =IFERROR(VLOOKUP($B19,Roles!$A$2:$C$54,3,FALSE),"") | G19: =IFERROR(F19*E19,"")
C20: =IFERROR(VLOOKUP($B20,Roles!$A$2:$C$54,2,FALSE),"") | E20: =IFERROR(VLOOKUP($B20,Roles!$A$2:$C$54,3,FALSE),"") | G20: =IFERROR(F20*E20,"")
C21: =IFERROR(VLOOKUP($B21,Roles!$A$2:$C$54,2,FALSE),"") | E21: =IFERROR(VLOOKUP($B21,Roles!$A$2:$C$54,3,FALSE),"") | G21: =IFERROR(F21*E21,"")
... C32: =IFERROR(VLOOKUP($B32,Roles!$A$2:$C$54,2,FALSE),"") | E32: =IFERROR(VLOOKUP($B32,Roles!$A$2:$C$54,3,FALSE),"") | G32: =IFERROR(F32*E32,"")
B33: TOTAL DES SALAIRES | G33: =SUM(G10:G32) -> 0
B34: TOTAL DES AVANTAGES SOCIAUX (22,5 % du montant total des salaires) | G34: =G33*0.225 -> 0
B35: TOTAL DES RESSOURCES HUMAINES | E35: ETP: | F35: =SUM(F10:F32) -> 0 | G35: =SUM(G33,G34) -> 0
B37: VACATIONS DE SPÉCIALISTES / MÉDECIN(S) COLLABORATEUR(S) | C37: NOMBRE DE VACATIONS ou ETP (AJUSTÉ) | D37: Lieu de prestation des services (où l'ETP est affecté) (Veuillez consulter les commentaires pour obtenir de plus amples renseignements) | E37: TAUX | G37: FINANCEMENT DE BASE
B38: Vacations de spécialistes (ESF seulement) Veuillez saisir le nombre de vacations --> | E38: 760 | G38: =IFERROR(C38*E38,"") -> 0
B39: Médecins collaborateurs (CPIP seulement) Veuillez saisir le nombre d'ETP d'IP --> | E39: 12309.69 | G39: =IFERROR(C39*E39,"") -> 0
B41: SALAIRES DES MÉDECINS EN ETP (CSC, MSM, OASSP) | C41: ETP (AJUSTÉ) | D41: Lieu de prestation des services (où l'ETP est affecté) (Veuillez consulter les commentaires pour obtenir de plus amples renseignements) | E41: TAUX | G41: FINANCEMENT DE BASE
B42: Médecin - CSC Veuillez saisir le nombre d'ETP --> | E42: 414968.06 | G42: =E42*C42 -> 0
A43: FTE | B43: Médecin - MSM (niveau 2) Veuillez saisir le nombre d'ETP --> | E43: 259672 | G43: =E43*C43 -> 0
B44: Médecin - OASSP Veuillez saisir le nombre d'ETP --> | E44: 414968.06 | G44: =E44*C44 -> 0 | H44: =SUM(E42:E44) -> 1089608.1 | I44: =SUM(F42:F44) -> 0
B45: RÉMUNÉRATION TOTALE DES MÉDECINS | G45: =SUM(G38:G39)+SUM(G42:G44) -> 0 | H45: =SUM(B42:B44) -> 0 | I45: =SUM(C42:C44) -> 0
B47: FRAIS GÉNÉRAUX D'EXPLOITATION | C47: TAUX | G47: FINANCEMENT DE BASE
B48: Frais généraux (selon le tableau des ressources humaines ci-dessus) | C48: ="25% sur "&F35&" ETP" -> 25% sur 0 ETP | G48: =SUM(G35*0.25) -> 0
B49: Frais généraux (selon le tableau des salaires des médecins en ETP ci-dessus) | C49: ="25% sur "&I45&" ETP" -> 25% sur 0 ETP | G49: =SUM(G42:G44)*0.25 -> 0
B50: TOTAL DES FRAIS GÉNÉRAUX D'EXPLOITATION | G50: =SUM(G48:G49) -> 0
B52: TOTAL | G52: =SUM(G35,G45,G50) -> 0
B53: COMMENTAIRES

Sheet Budget de l'EISP partenaire 3
B1: Modèle de budget de l'appel de propositions 2027-2028 pour l'expansion des EISP
B4: Nom de l'organisme partenaire : | D4: Entente privilégiée pour l'entente de financement :
B5: Type d'organisme partenaire :
B6: Identifiant de la proposition : | C6: =IF('Budg de l''organisme responsable'!C6="","",'Budg de l''organisme responsable'!C6)
B9: RESSOURCES HUMAINES (Veuillez sélectionner le titre du poste dans la liste déroulante ci-dessous) | C9: TYPE | D9: Lieu de prestation des services (où l'ETP est affecté) (Veuillez consulter les commentaires pour obtenir de plus amples renseignements) | E9: SALAIRE | F9: ETP (Saisissez le nombre) | G9: FINANCEMENT DE BASE | K9: Instructions : ÉTAPE 1 : Saisissez les renseignements sur les RESSOURCES HUMAINES en sélectionnant les titres de poste des ressources (disponibles dans la liste déroulante de la colonne B - le salaire s'affichera automatiquement) Indiquez le nombre annuel d'équivalents temps plein (ETP) pour chaque ressource dans la colonne F Le financement de base total sera calculé automatiquement. Veuillez indiquer, dans la colonne D de ce tableau budgétaire, le principal lieu d'affectation où l'ETP fournira des services. ÉTAPE 2 : Saisissez le nombre de vacations de spécialistes dans la colonne C (le financement sera calculé automatiquement selon le taux indiqué - 760 $ par période de trois heures) Saisissez le nombre annuel d'ETP d'IP pour les médecins collaborateurs dans la colonne C (le financement sera calculé automatiquement selon le taux indiqué - 12 309,69 $ par année, par ETP d'IP) Veuillez indiquer, dans la colonne D de ce tableau budgétaire, le principal lieu d'affectation où l'ETP fournira des services. ÉTAPE 3 : Saisissez les ETP DE MÉDECINS en indiquant le nombre annuel d'ETP pour chaque type de médecin (CSC, MSM, OASSP) dans la colonne C Veuillez indiquer, dans la colonne D de ce tableau budgétaire, le principal lieu d'affectation où l'ETP fournira des services. ÉTAPE 4 : Passez en revue les renseignements sur les FRAIS GÉNÉRAUX D'EXPLOITATION dans les cellules prévues à cet effet (ils correspondent à des frais généraux de 25 % par ETP pour le nombre total d'ETP figurant dans le tableau des ressources humaines ci-dessus) ÉTAPE 5 : Remplissez un onglet Budget des EISP partenaires distinct pour chaque EISP participante et sélectionnez l'entente de financement applicable dans la liste déroulante. Saisissez les renseignements sur le financement et les ETP uniquement pour les EISP pour lesquelles un financement est demandé. Remarques : - Veuillez sélectionner le titre de poste qui correspond le mieux au rôle des ETP demandés - Les taux salariaux sont fournis aux fins de l'établissement du budget et ne tiennent pas compte des augmentations futures. - Ce tableau budgétaire s'applique uniquement aux fins de ce financement particulier Important : ne modifiez pas la structure, les formules, la mise en forme ni les listes déroulantes de ce modèle. Si vous avez besoin de lignes supplémentaires ou d'onglets Budget des EISP partenaires supplémentaires, veuillez communiquer avec primarycareexpansion@ontariohealth.ca
C10: =IFERROR(VLOOKUP($B10,Roles!$A$2:$C$54,2,FALSE),"") | E10: =IFERROR(VLOOKUP($B10,Roles!$A$2:$C$54,3,FALSE),"") | G10: =IFERROR(F10*E10,"")
C11: =IFERROR(VLOOKUP($B11,Roles!$A$2:$C$54,2,FALSE),"") | E11: =IFERROR(VLOOKUP($B11,Roles!$A$2:$C$54,3,FALSE),"") | G11: =IFERROR(F11*E11,"")
C12: =IFERROR(VLOOKUP($B12,Roles!$A$2:$C$54,2,FALSE),"") | E12: =IFERROR(VLOOKUP($B12,Roles!$A$2:$C$54,3,FALSE),"") | G12: =IFERROR(F12*E12,"")
C13: =IFERROR(VLOOKUP($B13,Roles!$A$2:$C$54,2,FALSE),"") | E13: =IFERROR(VLOOKUP($B13,Roles!$A$2:$C$54,3,FALSE),"") | G13: =IFERROR(F13*E13,"")
C14: =IFERROR(VLOOKUP($B14,Roles!$A$2:$C$54,2,FALSE),"") | E14: =IFERROR(VLOOKUP($B14,Roles!$A$2:$C$54,3,FALSE),"") | G14: =IFERROR(F14*E14,"")
C15: =IFERROR(VLOOKUP($B15,Roles!$A$2:$C$54,2,FALSE),"") | E15: =IFERROR(VLOOKUP($B15,Roles!$A$2:$C$54,3,FALSE),"") | G15: =IFERROR(F15*E15,"")
C16: =IFERROR(VLOOKUP($B16,Roles!$A$2:$C$54,2,FALSE),"") | E16: =IFERROR(VLOOKUP($B16,Roles!$A$2:$C$54,3,FALSE),"") | G16: =IFERROR(F16*E16,"")
C17: =IFERROR(VLOOKUP($B17,Roles!$A$2:$C$54,2,FALSE),"") | E17: =IFERROR(VLOOKUP($B17,Roles!$A$2:$C$54,3,FALSE),"") | G17: =IFERROR(F17*E17,"")
C18: =IFERROR(VLOOKUP($B18,Roles!$A$2:$C$54,2,FALSE),"") | E18: =IFERROR(VLOOKUP($B18,Roles!$A$2:$C$54,3,FALSE),"") | G18: =IFERROR(F18*E18,"")
C19: =IFERROR(VLOOKUP($B19,Roles!$A$2:$C$54,2,FALSE),"") | E19: =IFERROR(VLOOKUP($B19,Roles!$A$2:$C$54,3,FALSE),"") | G19: =IFERROR(F19*E19,"")
C20: =IFERROR(VLOOKUP($B20,Roles!$A$2:$C$54,2,FALSE),"") | E20: =IFERROR(VLOOKUP($B20,Roles!$A$2:$C$54,3,FALSE),"") | G20: =IFERROR(F20*E20,"")
C21: =IFERROR(VLOOKUP($B21,Roles!$A$2:$C$54,2,FALSE),"") | E21: =IFERROR(VLOOKUP($B21,Roles!$A$2:$C$54,3,FALSE),"") | G21: =IFERROR(F21*E21,"")
... C32: =IFERROR(VLOOKUP($B32,Roles!$A$2:$C$54,2,FALSE),"") | E32: =IFERROR(VLOOKUP($B32,Roles!$A$2:$C$54,3,FALSE),"") | G32: =IFERROR(F32*E32,"")
B33: TOTAL DES SALAIRES | G33: =SUM(G10:G32) -> 0
B34: TOTAL DES AVANTAGES SOCIAUX (22,5 % du montant total des salaires) | G34: =G33*0.225 -> 0
B35: TOTAL DES RESSOURCES HUMAINES | E35: ETP: | F35: =SUM(F10:F32) -> 0 | G35: =SUM(G33,G34) -> 0
B37: VACATIONS DE SPÉCIALISTES / MÉDECIN(S) COLLABORATEUR(S) | C37: NOMBRE DE VACATIONS ou ETP (AJUSTÉ) | D37: Lieu de prestation des services (où l'ETP est affecté) (Veuillez consulter les commentaires pour obtenir de plus amples renseignements) | E37: TAUX | G37: FINANCEMENT DE BASE
B38: Vacations de spécialistes (ESF seulement) Veuillez saisir le nombre de vacations --> | E38: 760 | G38: =IFERROR(C38*E38,"") -> 0
B39: Médecins collaborateurs (CPIP seulement) Veuillez saisir le nombre d'ETP d'IP --> | E39: 12309.69 | G39: =IFERROR(C39*E39,"") -> 0
B41: SALAIRES DES MÉDECINS EN ETP (CSC, MSM, OASSP) | C41: ETP (AJUSTÉ) | D41: Lieu de prestation des services (où l'ETP est affecté) (Veuillez consulter les commentaires pour obtenir de plus amples renseignements) | E41: TAUX | G41: FINANCEMENT DE BASE
B42: Médecin - CSC Veuillez saisir le nombre d'ETP --> | E42: 414968.06 | G42: =E42*C42 -> 0
A43: FTE | B43: Médecin - MSM (niveau 2) Veuillez saisir le nombre d'ETP --> | E43: 259672 | G43: =E43*C43 -> 0
B44: Médecin - OASSP Veuillez saisir le nombre d'ETP --> | E44: 414968.06 | G44: =E44*C44 -> 0 | H44: =SUM(E42:E44) -> 1089608.1 | I44: =SUM(F42:F44) -> 0
B45: RÉMUNÉRATION TOTALE DES MÉDECINS | G45: =SUM(G38:G39)+SUM(G42:G44) -> 0 | H45: =SUM(B42:B44) -> 0 | I45: =SUM(C42:C44) -> 0
B47: FRAIS GÉNÉRAUX D'EXPLOITATION | C47: TAUX | G47: FINANCEMENT DE BASE
B48: Frais généraux (selon le tableau des ressources humaines ci-dessus) | C48: ="25% sur "&F35&" ETP" -> 25% sur 0 ETP | G48: =SUM(G35*0.25) -> 0
B49: Frais généraux (selon le tableau des salaires des médecins en ETP ci-dessus) | C49: ="25% sur "&I45&" ETP" -> 25% sur 0 ETP | G49: =SUM(G42:G44)*0.25 -> 0
B50: TOTAL DES FRAIS GÉNÉRAUX D'EXPLOITATION | G50: =SUM(G48:G49) -> 0
B52: TOTAL | G52: =SUM(G35,G45,G50) -> 0
B53: COMMENTAIRES

Sheet Budget de l'EISP partenaire 4
B1: Modèle de budget de l'appel de propositions 2027-2028 pour l'expansion des EISP
B4: Nom de l'organisme partenaire : | D4: Entente privilégiée pour l'entente de financement :
B5: Type d'organisme partenaire :
B6: Identifiant de la proposition : | C6: =IF('Budg de l''organisme responsable'!C6="","",'Budg de l''organisme responsable'!C6)
B9: RESSOURCES HUMAINES (Veuillez sélectionner le titre du poste dans la liste déroulante ci-dessous) | C9: TYPE | D9: Lieu de prestation des services (où l'ETP est affecté) (Veuillez consulter les commentaires pour obtenir de plus amples renseignements) | E9: SALAIRE | F9: ETP (Saisissez le nombre) | G9: FINANCEMENT DE BASE | K9: Instructions : ÉTAPE 1 : Saisissez les renseignements sur les RESSOURCES HUMAINES en sélectionnant les titres de poste des ressources (disponibles dans la liste déroulante de la colonne B - le salaire s'affichera automatiquement) Indiquez le nombre annuel d'équivalents temps plein (ETP) pour chaque ressource dans la colonne F Le financement de base total sera calculé automatiquement. Veuillez indiquer, dans la colonne D de ce tableau budgétaire, le principal lieu d'affectation où l'ETP fournira des services. ÉTAPE 2 : Saisissez le nombre de vacations de spécialistes dans la colonne C (le financement sera calculé automatiquement selon le taux indiqué - 760 $ par période de trois heures) Saisissez le nombre annuel d'ETP d'IP pour les médecins collaborateurs dans la colonne C (le financement sera calculé automatiquement selon le taux indiqué - 12 309,69 $ par année, par ETP d'IP) Veuillez indiquer, dans la colonne D de ce tableau budgétaire, le principal lieu d'affectation où l'ETP fournira des services. ÉTAPE 3 : Saisissez les ETP DE MÉDECINS en indiquant le nombre annuel d'ETP pour chaque type de médecin (CSC, MSM, OASSP) dans la colonne C Veuillez indiquer, dans la colonne D de ce tableau budgétaire, le principal lieu d'affectation où l'ETP fournira des services. ÉTAPE 4 : Passez en revue les renseignements sur les FRAIS GÉNÉRAUX D'EXPLOITATION dans les cellules prévues à cet effet (ils correspondent à des frais généraux de 25 % par ETP pour le nombre total d'ETP figurant dans le tableau des ressources humaines ci-dessus) ÉTAPE 5 : Remplissez un onglet Budget des EISP partenaires distinct pour chaque EISP participante et sélectionnez l'entente de financement applicable dans la liste déroulante. Saisissez les renseignements sur le financement et les ETP uniquement pour les EISP pour lesquelles un financement est demandé. Remarques : - Veuillez sélectionner le titre de poste qui correspond le mieux au rôle des ETP demandés - Les taux salariaux sont fournis aux fins de l'établissement du budget et ne tiennent pas compte des augmentations futures. - Ce tableau budgétaire s'applique uniquement aux fins de ce financement particulier Important : ne modifiez pas la structure, les formules, la mise en forme ni les listes déroulantes de ce modèle. Si vous avez besoin de lignes supplémentaires ou d'onglets Budget des EISP partenaires supplémentaires, veuillez communiquer avec primarycareexpansion@ontariohealth.ca
C10: =IFERROR(VLOOKUP($B10,Roles!$A$2:$C$54,2,FALSE),"") | E10: =IFERROR(VLOOKUP($B10,Roles!$A$2:$C$54,3,FALSE),"") | G10: =IFERROR(F10*E10,"")
C11: =IFERROR(VLOOKUP($B11,Roles!$A$2:$C$54,2,FALSE),"") | E11: =IFERROR(VLOOKUP($B11,Roles!$A$2:$C$54,3,FALSE),"") | G11: =IFERROR(F11*E11,"")
C12: =IFERROR(VLOOKUP($B12,Roles!$A$2:$C$54,2,FALSE),"") | E12: =IFERROR(VLOOKUP($B12,Roles!$A$2:$C$54,3,FALSE),"") | G12: =IFERROR(F12*E12,"")
C13: =IFERROR(VLOOKUP($B13,Roles!$A$2:$C$54,2,FALSE),"") | E13: =IFERROR(VLOOKUP($B13,Roles!$A$2:$C$54,3,FALSE),"") | G13: =IFERROR(F13*E13,"")
C14: =IFERROR(VLOOKUP($B14,Roles!$A$2:$C$54,2,FALSE),"") | E14: =IFERROR(VLOOKUP($B14,Roles!$A$2:$C$54,3,FALSE),"") | G14: =IFERROR(F14*E14,"")
C15: =IFERROR(VLOOKUP($B15,Roles!$A$2:$C$54,2,FALSE),"") | E15: =IFERROR(VLOOKUP($B15,Roles!$A$2:$C$54,3,FALSE),"") | G15: =IFERROR(F15*E15,"")
C16: =IFERROR(VLOOKUP($B16,Roles!$A$2:$C$54,2,FALSE),"") | E16: =IFERROR(VLOOKUP($B16,Roles!$A$2:$C$54,3,FALSE),"") | G16: =IFERROR(F16*E16,"")
C17: =IFERROR(VLOOKUP($B17,Roles!$A$2:$C$54,2,FALSE),"") | E17: =IFERROR(VLOOKUP($B17,Roles!$A$2:$C$54,3,FALSE),"") | G17: =IFERROR(F17*E17,"")
C18: =IFERROR(VLOOKUP($B18,Roles!$A$2:$C$54,2,FALSE),"") | E18: =IFERROR(VLOOKUP($B18,Roles!$A$2:$C$54,3,FALSE),"") | G18: =IFERROR(F18*E18,"")
C19: =IFERROR(VLOOKUP($B19,Roles!$A$2:$C$54,2,FALSE),"") | E19: =IFERROR(VLOOKUP($B19,Roles!$A$2:$C$54,3,FALSE),"") | G19: =IFERROR(F19*E19,"")
C20: =IFERROR(VLOOKUP($B20,Roles!$A$2:$C$54,2,FALSE),"") | E20: =IFERROR(VLOOKUP($B20,Roles!$A$2:$C$54,3,FALSE),"") | G20: =IFERROR(F20*E20,"")
C21: =IFERROR(VLOOKUP($B21,Roles!$A$2:$C$54,2,FALSE),"") | E21: =IFERROR(VLOOKUP($B21,Roles!$A$2:$C$54,3,FALSE),"") | G21: =IFERROR(F21*E21,"")
... C32: =IFERROR(VLOOKUP($B32,Roles!$A$2:$C$54,2,FALSE),"") | E32: =IFERROR(VLOOKUP($B32,Roles!$A$2:$C$54,3,FALSE),"") | G32: =IFERROR(F32*E32,"")
B33: TOTAL DES SALAIRES | G33: =SUM(G10:G32) -> 0
B34: TOTAL DES AVANTAGES SOCIAUX (22,5 % du montant total des salaires) | G34: =G33*0.225 -> 0
B35: TOTAL DES RESSOURCES HUMAINES | E35: ETP: | F35: =SUM(F10:F32) -> 0 | G35: =SUM(G33,G34) -> 0
B37: VACATIONS DE SPÉCIALISTES / MÉDECIN(S) COLLABORATEUR(S) | C37: NOMBRE DE VACATIONS ou ETP (AJUSTÉ) | D37: Lieu de prestation des services (où l'ETP est affecté) (Veuillez consulter les commentaires pour obtenir de plus amples renseignements) | E37: TAUX | G37: FINANCEMENT DE BASE
B38: Vacations de spécialistes (ESF seulement) Veuillez saisir le nombre de vacations --> | E38: 760 | G38: =IFERROR(C38*E38,"") -> 0
B39: Médecins collaborateurs (CPIP seulement) Veuillez saisir le nombre d'ETP d'IP --> | E39: 12309.69 | G39: =IFERROR(C39*E39,"") -> 0
B41: SALAIRES DES MÉDECINS EN ETP (CSC, MSM, OASSP) | C41: ETP (AJUSTÉ) | D41: Lieu de prestation des services (où l'ETP est affecté) (Veuillez consulter les commentaires pour obtenir de plus amples renseignements) | E41: TAUX | G41: FINANCEMENT DE BASE
B42: Médecin - CSC Veuillez saisir le nombre d'ETP --> | E42: 414968.06 | G42: =E42*C42 -> 0
A43: FTE | B43: Médecin - MSM (niveau 2) Veuillez saisir le nombre d'ETP --> | E43: 259672 | G43: =E43*C43 -> 0
B44: Médecin - OASSP Veuillez saisir le nombre d'ETP --> | E44: 414968.06 | G44: =E44*C44 -> 0 | H44: =SUM(E42:E44) -> 1089608.1 | I44: =SUM(F42:F44) -> 0
B45: RÉMUNÉRATION TOTALE DES MÉDECINS | G45: =SUM(G38:G39)+SUM(G42:G44) -> 0 | H45: =SUM(B42:B44) -> 0 | I45: =SUM(C42:C44) -> 0
B47: FRAIS GÉNÉRAUX D'EXPLOITATION | C47: TAUX | G47: FINANCEMENT DE BASE
B48: Frais généraux (selon le tableau des ressources humaines ci-dessus) | C48: ="25% sur "&F35&" ETP" -> 25% sur 0 ETP | G48: =SUM(G35*0.25) -> 0
B49: Frais généraux (selon le tableau des salaires des médecins en ETP ci-dessus) | C49: ="25% sur "&I45&" ETP" -> 25% sur 0 ETP | G49: =SUM(G42:G44)*0.25 -> 0
B50: TOTAL DES FRAIS GÉNÉRAUX D'EXPLOITATION | G50: =SUM(G48:G49) -> 0
B52: TOTAL | G52: =SUM(G35,G45,G50) -> 0
B53: COMMENTAIRES

Sheet Budget de l'EISP partenaire 5
B1: Modèle de budget de l'appel de propositions 2027-2028 pour l'expansion des EISP
B4: Nom de l'organisme partenaire : | D4: Entente privilégiée pour l'entente de financement :
B5: Type d'organisme partenaire :
B6: Identifiant de la proposition : | C6: =IF('Budg de l''organisme responsable'!C6="","",'Budg de l''organisme responsable'!C6)
B9: RESSOURCES HUMAINES (Veuillez sélectionner le titre du poste dans la liste déroulante ci-dessous) | C9: TYPE | D9: Lieu de prestation des services (où l'ETP est affecté) (Veuillez consulter les commentaires pour obtenir de plus amples renseignements) | E9: SALAIRE | F9: ETP (Saisissez le nombre) | G9: FINANCEMENT DE BASE | K9: Instructions : ÉTAPE 1 : Saisissez les renseignements sur les RESSOURCES HUMAINES en sélectionnant les titres de poste des ressources (disponibles dans la liste déroulante de la colonne B - le salaire s'affichera automatiquement) Indiquez le nombre annuel d'équivalents temps plein (ETP) pour chaque ressource dans la colonne F Le financement de base total sera calculé automatiquement. Veuillez indiquer, dans la colonne D de ce tableau budgétaire, le principal lieu d'affectation où l'ETP fournira des services. ÉTAPE 2 : Saisissez le nombre de vacations de spécialistes dans la colonne C (le financement sera calculé automatiquement selon le taux indiqué - 760 $ par période de trois heures) Saisissez le nombre annuel d'ETP d'IP pour les médecins collaborateurs dans la colonne C (le financement sera calculé automatiquement selon le taux indiqué - 12 309,69 $ par année, par ETP d'IP) Veuillez indiquer, dans la colonne D de ce tableau budgétaire, le principal lieu d'affectation où l'ETP fournira des services. ÉTAPE 3 : Saisissez les ETP DE MÉDECINS en indiquant le nombre annuel d'ETP pour chaque type de médecin (CSC, MSM, OASSP) dans la colonne C Veuillez indiquer, dans la colonne D de ce tableau budgétaire, le principal lieu d'affectation où l'ETP fournira des services. ÉTAPE 4 : Passez en revue les renseignements sur les FRAIS GÉNÉRAUX D'EXPLOITATION dans les cellules prévues à cet effet (ils correspondent à des frais généraux de 25 % par ETP pour le nombre total d'ETP figurant dans le tableau des ressources humaines ci-dessus) ÉTAPE 5 : Remplissez un onglet Budget des EISP partenaires distinct pour chaque EISP participante et sélectionnez l'entente de financement applicable dans la liste déroulante. Saisissez les renseignements sur le financement et les ETP uniquement pour les EISP pour lesquelles un financement est demandé. Remarques : - Veuillez sélectionner le titre de poste qui correspond le mieux au rôle des ETP demandés - Les taux salariaux sont fournis aux fins de l'établissement du budget et ne tiennent pas compte des augmentations futures. - Ce tableau budgétaire s'applique uniquement aux fins de ce financement particulier Important : ne modifiez pas la structure, les formules, la mise en forme ni les listes déroulantes de ce modèle. Si vous avez besoin de lignes supplémentaires ou d'onglets Budget des EISP partenaires supplémentaires, veuillez communiquer avec primarycareexpansion@ontariohealth.ca
C10: =IFERROR(VLOOKUP($B10,Roles!$A$2:$C$54,2,FALSE),"") | E10: =IFERROR(VLOOKUP($B10,Roles!$A$2:$C$54,3,FALSE),"") | G10: =IFERROR(F10*E10,"")
C11: =IFERROR(VLOOKUP($B11,Roles!$A$2:$C$54,2,FALSE),"") | E11: =IFERROR(VLOOKUP($B11,Roles!$A$2:$C$54,3,FALSE),"") | G11: =IFERROR(F11*E11,"")
C12: =IFERROR(VLOOKUP($B12,Roles!$A$2:$C$54,2,FALSE),"") | E12: =IFERROR(VLOOKUP($B12,Roles!$A$2:$C$54,3,FALSE),"") | G12: =IFERROR(F12*E12,"")
C13: =IFERROR(VLOOKUP($B13,Roles!$A$2:$C$54,2,FALSE),"") | E13: =IFERROR(VLOOKUP($B13,Roles!$A$2:$C$54,3,FALSE),"") | G13: =IFERROR(F13*E13,"")
C14: =IFERROR(VLOOKUP($B14,Roles!$A$2:$C$54,2,FALSE),"") | E14: =IFERROR(VLOOKUP($B14,Roles!$A$2:$C$54,3,FALSE),"") | G14: =IFERROR(F14*E14,"")
C15: =IFERROR(VLOOKUP($B15,Roles!$A$2:$C$54,2,FALSE),"") | E15: =IFERROR(VLOOKUP($B15,Roles!$A$2:$C$54,3,FALSE),"") | G15: =IFERROR(F15*E15,"")
C16: =IFERROR(VLOOKUP($B16,Roles!$A$2:$C$54,2,FALSE),"") | E16: =IFERROR(VLOOKUP($B16,Roles!$A$2:$C$54,3,FALSE),"") | G16: =IFERROR(F16*E16,"")
C17: =IFERROR(VLOOKUP($B17,Roles!$A$2:$C$54,2,FALSE),"") | E17: =IFERROR(VLOOKUP($B17,Roles!$A$2:$C$54,3,FALSE),"") | G17: =IFERROR(F17*E17,"")
C18: =IFERROR(VLOOKUP($B18,Roles!$A$2:$C$54,2,FALSE),"") | E18: =IFERROR(VLOOKUP($B18,Roles!$A$2:$C$54,3,FALSE),"") | G18: =IFERROR(F18*E18,"")
C19: =IFERROR(VLOOKUP($B19,Roles!$A$2:$C$54,2,FALSE),"") | E19: =IFERROR(VLOOKUP($B19,Roles!$A$2:$C$54,3,FALSE),"") | G19: =IFERROR(F19*E19,"")
C20: =IFERROR(VLOOKUP($B20,Roles!$A$2:$C$54,2,FALSE),"") | E20: =IFERROR(VLOOKUP($B20,Roles!$A$2:$C$54,3,FALSE),"") | G20: =IFERROR(F20*E20,"")
C21: =IFERROR(VLOOKUP($B21,Roles!$A$2:$C$54,2,FALSE),"") | E21: =IFERROR(VLOOKUP($B21,Roles!$A$2:$C$54,3,FALSE),"") | G21: =IFERROR(F21*E21,"")
... C32: =IFERROR(VLOOKUP($B32,Roles!$A$2:$C$54,2,FALSE),"") | E32: =IFERROR(VLOOKUP($B32,Roles!$A$2:$C$54,3,FALSE),"") | G32: =IFERROR(F32*E32,"")
B33: TOTAL DES SALAIRES | G33: =SUM(G10:G32) -> 0
B34: TOTAL DES AVANTAGES SOCIAUX (22,5 % du montant total des salaires) | G34: =G33*0.225 -> 0
B35: TOTAL DES RESSOURCES HUMAINES | E35: ETP: | F35: =SUM(F10:F32) -> 0 | G35: =SUM(G33,G34) -> 0
B37: VACATIONS DE SPÉCIALISTES / MÉDECIN(S) COLLABORATEUR(S) | C37: NOMBRE DE VACATIONS ou ETP (AJUSTÉ) | D37: Lieu de prestation des services (où l'ETP est affecté) (Veuillez consulter les commentaires pour obtenir de plus amples renseignements) | E37: TAUX | G37: FINANCEMENT DE BASE
B38: Vacations de spécialistes (ESF seulement) Veuillez saisir le nombre de vacations --> | E38: 760 | G38: =IFERROR(C38*E38,"") -> 0
B39: Médecins collaborateurs (CPIP seulement) Veuillez saisir le nombre d'ETP d'IP --> | E39: 12309.69 | G39: =IFERROR(C39*E39,"") -> 0
B41: SALAIRES DES MÉDECINS EN ETP (CSC, MSM, OASSP) | C41: ETP (AJUSTÉ) | D41: Lieu de prestation des services (où l'ETP est affecté) (Veuillez consulter les commentaires pour obtenir de plus amples renseignements) | E41: TAUX | G41: FINANCEMENT DE BASE
B42: Médecin - CSC Veuillez saisir le nombre d'ETP --> | E42: 414968.06 | G42: =E42*C42 -> 0
A43: FTE | B43: Médecin - MSM (niveau 2) Veuillez saisir le nombre d'ETP --> | E43: 259672 | G43: =E43*C43 -> 0
B44: Médecin - OASSP Veuillez saisir le nombre d'ETP --> | E44: 414968.06 | G44: =E44*C44 -> 0 | H44: =SUM(E42:E44) -> 1089608.1 | I44: =SUM(F42:F44) -> 0
B45: RÉMUNÉRATION TOTALE DES MÉDECINS | G45: =SUM(G38:G39)+SUM(G42:G44) -> 0 | H45: =SUM(B42:B44) -> 0 | I45: =SUM(C42:C44) -> 0
B47: FRAIS GÉNÉRAUX D'EXPLOITATION | C47: TAUX | G47: FINANCEMENT DE BASE
B48: Frais généraux (selon le tableau des ressources humaines ci-dessus) | C48: ="25% sur "&F35&" ETP" -> 25% sur 0 ETP | G48: =SUM(G35*0.25) -> 0
B49: Frais généraux (selon le tableau des salaires des médecins en ETP ci-dessus) | C49: ="25% sur "&I45&" ETP" -> 25% sur 0 ETP | G49: =SUM(G42:G44)*0.25 -> 0
B50: TOTAL DES FRAIS GÉNÉRAUX D'EXPLOITATION | G50: =SUM(G48:G49) -> 0
B52: TOTAL | G52: =SUM(G35,G45,G50) -> 0
B53: COMMENTAIRES

Sheet Budget de l'EISP partenaire 6
B1: Modèle de budget de l'appel de propositions 2027-2028 pour l'expansion des EISP
B4: Nom de l'organisme partenaire : | D4: Entente privilégiée pour l'entente de financement :
B5: Type d'organisme partenaire :
B6: Identifiant de la proposition : | C6: =IF('Budg de l''organisme responsable'!C6="","",'Budg de l''organisme responsable'!C6)
B9: RESSOURCES HUMAINES (Veuillez sélectionner le titre du poste dans la liste déroulante ci-dessous) | C9: TYPE | D9: Lieu de prestation des services (où l'ETP est affecté) (Veuillez consulter les commentaires pour obtenir de plus amples renseignements) | E9: SALAIRE | F9: ETP (Saisissez le nombre) | G9: FINANCEMENT DE BASE | K9: Instructions : ÉTAPE 1 : Saisissez les renseignements sur les RESSOURCES HUMAINES en sélectionnant les titres de poste des ressources (disponibles dans la liste déroulante de la colonne B - le salaire s'affichera automatiquement) Indiquez le nombre annuel d'équivalents temps plein (ETP) pour chaque ressource dans la colonne F Le financement de base total sera calculé automatiquement. Veuillez indiquer, dans la colonne D de ce tableau budgétaire, le principal lieu d'affectation où l'ETP fournira des services. ÉTAPE 2 : Saisissez le nombre de vacations de spécialistes dans la colonne C (le financement sera calculé automatiquement selon le taux indiqué - 760 $ par période de trois heures) Saisissez le nombre annuel d'ETP d'IP pour les médecins collaborateurs dans la colonne C (le financement sera calculé automatiquement selon le taux indiqué - 12 309,69 $ par année, par ETP d'IP) Veuillez indiquer, dans la colonne D de ce tableau budgétaire, le principal lieu d'affectation où l'ETP fournira des services. ÉTAPE 3 : Saisissez les ETP DE MÉDECINS en indiquant le nombre annuel d'ETP pour chaque type de médecin (CSC, MSM, OASSP) dans la colonne C Veuillez indiquer, dans la colonne D de ce tableau budgétaire, le principal lieu d'affectation où l'ETP fournira des services. ÉTAPE 4 : Passez en revue les renseignements sur les FRAIS GÉNÉRAUX D'EXPLOITATION dans les cellules prévues à cet effet (ils correspondent à des frais généraux de 25 % par ETP pour le nombre total d'ETP figurant dans le tableau des ressources humaines ci-dessus) ÉTAPE 5 : Remplissez un onglet Budget des EISP partenaires distinct pour chaque EISP participante et sélectionnez l'entente de financement applicable dans la liste déroulante. Saisissez les renseignements sur le financement et les ETP uniquement pour les EISP pour lesquelles un financement est demandé. Remarques : - Veuillez sélectionner le titre de poste qui correspond le mieux au rôle des ETP demandés - Les taux salariaux sont fournis aux fins de l'établissement du budget et ne tiennent pas compte des augmentations futures. - Ce tableau budgétaire s'applique uniquement aux fins de ce financement particulier Important : ne modifiez pas la structure, les formules, la mise en forme ni les listes déroulantes de ce modèle. Si vous avez besoin de lignes supplémentaires ou d'onglets Budget des EISP partenaires supplémentaires, veuillez communiquer avec primarycareexpansion@ontariohealth.ca
C10: =IFERROR(VLOOKUP($B10,Roles!$A$2:$C$54,2,FALSE),"") | E10: =IFERROR(VLOOKUP($B10,Roles!$A$2:$C$54,3,FALSE),"") | G10: =IFERROR(F10*E10,"")
C11: =IFERROR(VLOOKUP($B11,Roles!$A$2:$C$54,2,FALSE),"") | E11: =IFERROR(VLOOKUP($B11,Roles!$A$2:$C$54,3,FALSE),"") | G11: =IFERROR(F11*E11,"")
C12: =IFERROR(VLOOKUP($B12,Roles!$A$2:$C$54,2,FALSE),"") | E12: =IFERROR(VLOOKUP($B12,Roles!$A$2:$C$54,3,FALSE),"") | G12: =IFERROR(F12*E12,"")
C13: =IFERROR(VLOOKUP($B13,Roles!$A$2:$C$54,2,FALSE),"") | E13: =IFERROR(VLOOKUP($B13,Roles!$A$2:$C$54,3,FALSE),"") | G13: =IFERROR(F13*E13,"")
C14: =IFERROR(VLOOKUP($B14,Roles!$A$2:$C$54,2,FALSE),"") | E14: =IFERROR(VLOOKUP($B14,Roles!$A$2:$C$54,3,FALSE),"") | G14: =IFERROR(F14*E14,"")
C15: =IFERROR(VLOOKUP($B15,Roles!$A$2:$C$54,2,FALSE),"") | E15: =IFERROR(VLOOKUP($B15,Roles!$A$2:$C$54,3,FALSE),"") | G15: =IFERROR(F15*E15,"")
C16: =IFERROR(VLOOKUP($B16,Roles!$A$2:$C$54,2,FALSE),"") | E16: =IFERROR(VLOOKUP($B16,Roles!$A$2:$C$54,3,FALSE),"") | G16: =IFERROR(F16*E16,"")
C17: =IFERROR(VLOOKUP($B17,Roles!$A$2:$C$54,2,FALSE),"") | E17: =IFERROR(VLOOKUP($B17,Roles!$A$2:$C$54,3,FALSE),"") | G17: =IFERROR(F17*E17,"")
C18: =IFERROR(VLOOKUP($B18,Roles!$A$2:$C$54,2,FALSE),"") | E18: =IFERROR(VLOOKUP($B18,Roles!$A$2:$C$54,3,FALSE),"") | G18: =IFERROR(F18*E18,"")
C19: =IFERROR(VLOOKUP($B19,Roles!$A$2:$C$54,2,FALSE),"") | E19: =IFERROR(VLOOKUP($B19,Roles!$A$2:$C$54,3,FALSE),"") | G19: =IFERROR(F19*E19,"")
C20: =IFERROR(VLOOKUP($B20,Roles!$A$2:$C$54,2,FALSE),"") | E20: =IFERROR(VLOOKUP($B20,Roles!$A$2:$C$54,3,FALSE),"") | G20: =IFERROR(F20*E20,"")
C21: =IFERROR(VLOOKUP($B21,Roles!$A$2:$C$54,2,FALSE),"") | E21: =IFERROR(VLOOKUP($B21,Roles!$A$2:$C$54,3,FALSE),"") | G21: =IFERROR(F21*E21,"")
... C32: =IFERROR(VLOOKUP($B32,Roles!$A$2:$C$54,2,FALSE),"") | E32: =IFERROR(VLOOKUP($B32,Roles!$A$2:$C$54,3,FALSE),"") | G32: =IFERROR(F32*E32,"")
B33: TOTAL DES SALAIRES | G33: =SUM(G10:G32) -> 0
B34: TOTAL DES AVANTAGES SOCIAUX (22,5 % du montant total des salaires) | G34: =G33*0.225 -> 0
B35: TOTAL DES RESSOURCES HUMAINES | E35: ETP: | F35: =SUM(F10:F32) -> 0 | G35: =SUM(G33,G34) -> 0
B37: VACATIONS DE SPÉCIALISTES / MÉDECIN(S) COLLABORATEUR(S) | C37: NOMBRE DE VACATIONS ou ETP (AJUSTÉ) | D37: Lieu de prestation des services (où l'ETP est affecté) (Veuillez consulter les commentaires pour obtenir de plus amples renseignements) | E37: TAUX | G37: FINANCEMENT DE BASE
B38: Vacations de spécialistes (ESF seulement) Veuillez saisir le nombre de vacations --> | E38: 760 | G38: =IFERROR(C38*E38,"") -> 0
B39: Médecins collaborateurs (CPIP seulement) Veuillez saisir le nombre d'ETP d'IP --> | E39: 12309.69 | G39: =IFERROR(C39*E39,"") -> 0
B41: SALAIRES DES MÉDECINS EN ETP (CSC, MSM, OASSP) | C41: ETP (AJUSTÉ) | D41: Lieu de prestation des services (où l'ETP est affecté) (Veuillez consulter les commentaires pour obtenir de plus amples renseignements) | E41: TAUX | G41: FINANCEMENT DE BASE
B42: Médecin - CSC Veuillez saisir le nombre d'ETP --> | E42: 414968.06 | G42: =E42*C42 -> 0
A43: FTE | B43: Médecin - MSM (niveau 2) Veuillez saisir le nombre d'ETP --> | E43: 259672 | G43: =E43*C43 -> 0
B44: Médecin - OASSP Veuillez saisir le nombre d'ETP --> | E44: 414968.06 | G44: =E44*C44 -> 0 | H44: =SUM(E42:E44) -> 1089608.1 | I44: =SUM(F42:F44) -> 0
B45: RÉMUNÉRATION TOTALE DES MÉDECINS | G45: =SUM(G38:G39)+SUM(G42:G44) -> 0 | H45: =SUM(B42:B44) -> 0 | I45: =SUM(C42:C44) -> 0
B47: FRAIS GÉNÉRAUX D'EXPLOITATION | C47: TAUX | G47: FINANCEMENT DE BASE
B48: Frais généraux (selon le tableau des ressources humaines ci-dessus) | C48: ="25% sur "&F35&" ETP" -> 25% sur 0 ETP | G48: =SUM(G35*0.25) -> 0
B49: Frais généraux (selon le tableau des salaires des médecins en ETP ci-dessus) | C49: ="25% sur "&I45&" ETP" -> 25% sur 0 ETP | G49: =SUM(G42:G44)*0.25 -> 0
B50: TOTAL DES FRAIS GÉNÉRAUX D'EXPLOITATION | G50: =SUM(G48:G49) -> 0
B52: TOTAL | G52: =SUM(G35,G45,G50) -> 0
B53: COMMENTAIRES

Sheet Coût de démarrage ponctuel
B2: COÛTS DE DÉMARRAGE PONCTUELS | C2: Organisme associé (indiquez l'organisme auquel se rapportent les coûts de démarrage; s'ils concernent tous les partenaires, inscrivez « Tous ») | D2: Emplacement associé (non requis si l'organisme indiqué dans la colonne B ne compte qu'un seul emplacement) | E2: Type de coût de démarrage (p. ex., locaux cliniques, mobilier, TI, technologie, etc.) | F2: TOTAL
B19: TOTAL DES COÛTS DE DÉMARRAGE PONCTUELS | F19: =SUM(F4:F18) -> 0
G29: FALSE | H29: Excédent des RHS
G30: FALSE | H30: Excédent des frais généraux opérationnels

Sheet TOTAL (y compris les budgets de
B1: Modèle de budget de l'appel de propositions 2027-2028 pour l'expansion des EISP
B2: ETP et financement
F7: ETP | G7: FINANCEMENT
B8: TOTAL DES RESSOURCES HUMAINES | F8: ='Budg de l''organisme responsable'!F35+'Budget de l''EISP partenaire 1'!F35+'Budget de l''EISP partenaire 2'!F35+'Budget de l''EISP partenaire 3'!F35+'Budget de l''EISP partenaire 4'!F35+'Budget de l''EISP partenaire 5'!F35+'Budget de l''EISP partenaire 6'!F35 -> 0 | G8: ='Budg de l''organisme responsable'!G35+'Budget de l''EISP partenaire 1'!G35+'Budget de l''EISP partenaire 2'!G35+'Budget de l''EISP partenaire 3'!G35+'Budget de l''EISP partenaire 4'!G35+'Budget de l''EISP partenaire 5'!G35+'Budget de l''EISP partenaire 6'!G35 -> 0
B10: RÉMUNÉRATION TOTALE DES MÉDECINS | G10: ='Budg de l''organisme responsable'!G45+'Budget de l''EISP partenaire 1'!G45+'Budget de l''EISP partenaire 2'!G45+'Budget de l''EISP partenaire 3'!G45+'Budget de l''EISP partenaire 4'!G45+'Budget de l''EISP partenaire 5'!G45+'Budget de l''EISP partenaire 6'!G45 -> 0
B12: TOTAL DES FRAIS GÉNÉRAUX D'EXPLOITATION | G12: ='Budg de l''organisme responsable'!G50+'Budget de l''EISP partenaire 1'!G50+'Budget de l''EISP partenaire 2'!G50+'Budget de l''EISP partenaire 3'!G50+'Budget de l''EISP partenaire 4'!G50+'Budget de l''EISP partenaire 5'!G50+'Budget de l''EISP partenaire 6'!G50 -> 0
B15: FINANCEMENT TOTAL | G15: =ROUND(SUM(G8,G10,G12),-2) -> 0
B17: COMMENTAIRES

Sheet Roles
A1: Titre du poste du FSI | B1: Catégorie | C1: Taux financés par le MS
A2: Infirmière praticienne | B2: Fournisseur de soins de santé interprofessionnel | C2: 127987
A3: Infirmière praticienne (PPR) | B3: Fournisseur de soins de santé interprofessionnel | C3: 127987
A4: Travailleur social | B4: Fournisseur de soins de santé interprofessionnel | C4: 77673
A5: infirmière autorisée | B5: Fournisseur de soins de santé interprofessionnel | C5: 77673
A6: Diététiste professionnel | B6: Fournisseur de soins de santé interprofessionnel | C6: 77673
A7: IAA | B7: Fournisseur de soins de santé interprofessionnel | C7: 55685.88
A8: Pharmacien | B8: Fournisseur de soins de santé interprofessionnel | C8: 101917.38
A9: Promoteur de la santé/éducateur | B9: Fournisseur de soins de santé interprofessionnel | C9: 77673
A10: Physiothérapeute | B10: Fournisseur de soins de santé interprofessionnel | C10: 83986.8
A11: Adjoint clinique | B11: Fournisseur de soins de santé interprofessionnel | C11: 44540.34
A12: Intervenant/gestionnaire de cas | B12: Fournisseur de soins de santé interprofessionnel | C12: 77673
A13: Chiropraticien | B13: Fournisseur de soins de santé interprofessionnel | C13: 87723.06
... A53: Coordonnateur des bénévoles | B53: Gestion et administration | C53: 61444.8

Sheet Target Calc
G10: TARGET CALCULATOR
G12: FHT, NPLCs, CHCs
G13: FTE Type | H13: Attachment per FTE
G14: NP or PA | H14: 800
G15: IHP | H15: 225
G16: MD | H16: 1400
G18: IPHCOs
G19: FTE Type | H19: Attachment per FTE
G20: NP or PA | H20: 400
G21: IHP | H21: 100
G22: MD | H22: 520
